BEGIN:VCALENDAR
PRODID:-//eluceo/ical//2.0/EN
VERSION:2.0
CALSCALE:GREGORIAN
BEGIN:VEVENT
UID:5e2d0c251db8768114253d7cf318acb1
DTSTAMP:20260422T195016Z
SUMMARY:Miroslav Donutil - Na kus řeči
DESCRIPTION:<p style="text-align: center\;"><span style="font-weight: 400\;
 ">Legendární český herec\, bavič a vypravěč <strong>Miroslav Donuti
 l</strong> slaví neuvěřitelných 75 let  a své životní jubileum se
  rozhodl oslavit tam\, kde to má nejraději: na jevišti\, mezi svými di
 váky.</span><span style="font-weight: 400\;"><br /></span><span style="fo
 nt-weight: 400\;">Toto vystoupení bude opravdu výjimečné. Nejen skvěl
 ým humorem a atmosférou\, ale i tím\, že půjde o součást jubilejní
  narozeninové tour. Přijďte si užít večer plný příběhů\, záži
 tků a vzpomínek\, které Miroslav Donutil vypráví s typickou noblesou\
 , vtipem a nadhledem.</span></p>\n<p style="text-align: center\;"><span st
 yle="font-weight: 400\;">Miroslav Donutil je jeden z nejznámějších a n
 ejoblíbenějších českých herců\, komiků a vypravěčů. Za jeho tal
 ent jistě mohou i rodinné geny. Jeho rodiče byli ochotníky a dědeček
  byl vynikajícím a nadšeným vypravěčem. V divadle hrál již za stud
 ií\, konkrétně v divadle Husa na provázku. V roce 1990 se stal členem
  činohry souboru pražského Národního divadla.</span></p>\n<p style="t
 ext-align: center\;"><span style="font-weight: 400\;">Na kus řeči přin
 áší nové příběhy i oblíbené historky z jeho bohatého života a 
 života přátel.</span><span style="font-weight: 400\;"><br /></span><spa
 n style="font-weight: 400\;">A tentokrát budou mít ještě narozeninový
  nádech.</span></p>\n<p style="text-align: center\;"> </p>
URL:https://sklub.kzvalmez.cz/udalost/6168-miroslav-donutil-na-kus-reci/
DTSTART:20261120T190000
DTEND:20261120T190000
LOCATION:S-klub - Velký sál Kázetka
ORGANIZER;CN=S-klub:mailto:kzvalmez@kzvalmez.cz
END:VEVENT
END:VCALENDAR
