BEGIN:VCALENDAR
PRODID:-//eluceo/ical//2.0/EN
VERSION:2.0
CALSCALE:GREGORIAN
BEGIN:VEVENT
UID:a02106ae5f7cc6191c75755ecaf58a5f
DTSTAMP:20260422T194945Z
SUMMARY: Švanci show - JÁ SU JÁ
DESCRIPTION:<p style="text-align: center\;">Nová COMEDY SHOW na TOUR po ce
 lé ČR!</p>\n<p style="text-align: center\;">Přijďte se pobavit na uni
 kátní show plnou humoru\, zážitků a nečekaných příběhů! Od prvn
 ích fotbalových krůčků\, přes legendární rozlučku za Lužánkami\
 , účasti v oblíbených TV pořadech\, až po drsnou reality show SURVIV
 OR – to vše a mnohem víc vás čeká v nové zábavné show JÁ SU JÁ
 .</p>\n<p style="text-align: center\;">Neotřelé historky z fotbalového 
 i osobního života. Pohled do zákulisí známých televizních show. Pro
 stor pro vaše otázky „na tělo. Autogramiáda\, focení a přátelská
  atmosféra.</p>\n<p style="text-align: center\;">Zajímá tě\, jak to do
 opravdy bylo na ostrově? Jaký je život po kariéře profesionálního s
 portovce? A znáš mě tak dobře\, jak si myslíš?</p>\n<p style="text-a
 lign: center\;">Tohle všechno (a ještě víc) se dozvíš ve show\, kter
 á je stejně autentická jako její hlavní protagonista. Přijď si už
 ít večer plný smíchu\, příběhů a osobního setkání s fotbalistou
 \, moderátorem a bavičem v jednom.</p>\n<p style="text-align: center\;">
 Pořad není vhodný mladším 15 let!</p>\n<p style="text-align: center\;
 "> </p>\n<p style="text-align: center\;"> </p>
URL:https://sklub.kzvalmez.cz/udalost/6170--svanci-show-ja-su-ja/
DTSTART:20261012T190000
DTEND:20261012T190000
LOCATION:S-klub - Velký sál KZ
ORGANIZER;CN=S-klub:mailto:kzvalmez@kzvalmez.cz
END:VEVENT
END:VCALENDAR
